BEGIN:VCALENDAR
VERSION:2.0
PRODID:-//Greater Peoria YMCA - ECPv6.7.0//NONSGML v1.0//EN
CALSCALE:GREGORIAN
METHOD:PUBLISH
X-ORIGINAL-URL:https://peoriaymca.org
X-WR-CALDESC:Events for Greater Peoria YMCA
REFRESH-INTERVAL;VALUE=DURATION:PT1H
X-Robots-Tag:noindex
X-PUBLISHED-TTL:PT1H
BEGIN:VTIMEZONE
TZID:America/Chicago
BEGIN:DAYLIGHT
TZOFFSETFROM:-0600
TZOFFSETTO:-0500
TZNAME:CDT
DTSTART:20250309T080000
END:DAYLIGHT
BEGIN:STANDARD
TZOFFSETFROM:-0500
TZOFFSETTO:-0600
TZNAME:CST
DTSTART:20251102T070000
END:STANDARD
END:VTIMEZONE
BEGIN:VEVENT
DTSTART;TZID=America/Chicago:20250106T000000
DTEND;TZID=America/Chicago:20250131T235959
DTSTAMP:20260421T003652
CREATED:20241126T041323Z
LAST-MODIFIED:20241126T041957Z
UID:10001331-1736121600-1738367999@peoriaymca.org
SUMMARY:Temporary Pool Shutdown at Easterseals
DESCRIPTION:Attention Members and Guests:The pool at Easterseals will be closed from January 6th to January 31st for maintenance. During this time\, the following programs will not be available: \n\n\n\n\nTraditional Swim Lessons\n\n\n\nSafety Around Water Swim Lessons\n\n\n\nIDA (Individuals with Diverse Abilities) Private Lessons\n\n\n\nTraditional Private Lessons\n\n\n\n\nWe apologize for the inconvenience and appreciate your understanding. Please contact the YMCA for further updates or questions.
URL:https://peoriaymca.org/event/annual-pool-maintenance-shutdown-at-easterseals/
END:VEVENT
END:VCALENDAR