BEGIN:VCALENDAR
VERSION:2.0
PRODID:-//Greater Peoria YMCA - ECPv6.7.0//NONSGML v1.0//EN
CALSCALE:GREGORIAN
METHOD:PUBLISH
X-WR-CALNAME:Greater Peoria YMCA
X-ORIGINAL-URL:https://peoriaymca.org
X-WR-CALDESC:Events for Greater Peoria YMCA
REFRESH-INTERVAL;VALUE=DURATION:PT1H
X-Robots-Tag:noindex
X-PUBLISHED-TTL:PT1H
BEGIN:VTIMEZONE
TZID:America/Chicago
BEGIN:DAYLIGHT
TZOFFSETFROM:-0600
TZOFFSETTO:-0500
TZNAME:CDT
DTSTART:20220313T080000
END:DAYLIGHT
BEGIN:STANDARD
TZOFFSETFROM:-0500
TZOFFSETTO:-0600
TZNAME:CST
DTSTART:20221106T070000
END:STANDARD
BEGIN:DAYLIGHT
TZOFFSETFROM:-0600
TZOFFSETTO:-0500
TZNAME:CDT
DTSTART:20230312T080000
END:DAYLIGHT
BEGIN:STANDARD
TZOFFSETFROM:-0500
TZOFFSETTO:-0600
TZNAME:CST
DTSTART:20231105T070000
END:STANDARD
END:VTIMEZONE
BEGIN:VEVENT
DTSTART;TZID=America/Chicago:20230116T063000
DTEND;TZID=America/Chicago:20230116T173000
DTSTAMP:20260420T121643
CREATED:20221221T205530Z
LAST-MODIFIED:20221221T205538Z
UID:10000065-1673850600-1673890200@peoriaymca.org
SUMMARY:School's Day Out - MLK Day
DESCRIPTION:The Peoria YMCA runs “School’s Day Out” for many of the days that Peoria Public Schools are out of session.  Kids aged 5-10 play games\, get exercise\, and participate in community activities with other kids.
URL:https://peoriaymca.org/event/schools-day-out-mlk-day/
END:VEVENT
BEGIN:VEVENT
DTSTART;VALUE=DATE:20230116
DTEND;VALUE=DATE:20230117
DTSTAMP:20260420T121643
CREATED:20220907T203855Z
LAST-MODIFIED:20220907T203855Z
UID:10000005-1673827200-1673913599@peoriaymca.org
SUMMARY:No Teen REACH - MLK Day
DESCRIPTION:
URL:https://peoriaymca.org/event/no-teen-reach-mlk-day/
END:VEVENT
BEGIN:VEVENT
DTSTART;VALUE=DATE:20230114
DTEND;VALUE=DATE:20230115
DTSTAMP:20260420T121643
CREATED:20220907T204048Z
LAST-MODIFIED:20220907T204048Z
UID:10000007-1673654400-1673740799@peoriaymca.org
SUMMARY:Q1 Les Mills Launch
DESCRIPTION:
URL:https://peoriaymca.org/event/q1-les-mills-launch/
END:VEVENT
BEGIN:VEVENT
DTSTART;VALUE=DATE:20230110
DTEND;VALUE=DATE:20230111
DTSTAMP:20260420T121643
CREATED:20220907T203539Z
LAST-MODIFIED:20220907T203724Z
UID:10000003-1673308800-1673395199@peoriaymca.org
SUMMARY:Teen REACH Resumes
DESCRIPTION:
URL:https://peoriaymca.org/event/teen-reach-resumes/
END:VEVENT
BEGIN:VEVENT
DTSTART;VALUE=DATE:20230102
DTEND;VALUE=DATE:20230110
DTSTAMP:20260420T121643
CREATED:20220907T203223Z
LAST-MODIFIED:20221101T195949Z
UID:10000002-1672617600-1673308799@peoriaymca.org
SUMMARY:School's Day Out Holiday
DESCRIPTION:
URL:https://peoriaymca.org/event/schools-day-out-holiday/
END:VEVENT
BEGIN:VEVENT
DTSTART;TZID=America/Chicago:20221223T090000
DTEND;TZID=America/Chicago:20221223T120000
DTSTAMP:20260420T121643
CREATED:20221108T211528Z
LAST-MODIFIED:20221108T211743Z
UID:10000058-1671786000-1671796800@peoriaymca.org
SUMMARY:YMCA Blood Drive with Impact Life
DESCRIPTION:The Blood Drive will take place in the Y’s Multipurpose Room. \n\n\n\nClick here to register
URL:https://peoriaymca.org/event/ymca-blood-drive-with-impact-life/2022-12-23/
END:VEVENT
BEGIN:VEVENT
DTSTART;TZID=America/Chicago:20221027T080000
DTEND;TZID=America/Chicago:20221027T170000
DTSTAMP:20260420T121643
CREATED:20220909T184342Z
LAST-MODIFIED:20220909T184349Z
UID:10000057-1666857600-1666890000@peoriaymca.org
SUMMARY:YMCA Trick or Treat
DESCRIPTION:Details to come.
URL:https://peoriaymca.org/event/ymca-trick-or-treat/
END:VEVENT
END:VCALENDAR