BEGIN:VCALENDAR
VERSION:2.0
PRODID:-//Greater Peoria YMCA - ECPv6.7.0//NONSGML v1.0//EN
CALSCALE:GREGORIAN
METHOD:PUBLISH
X-ORIGINAL-URL:https://peoriaymca.org
X-WR-CALDESC:Events for Greater Peoria YMCA
REFRESH-INTERVAL;VALUE=DURATION:PT1H
X-Robots-Tag:noindex
X-PUBLISHED-TTL:PT1H
BEGIN:VTIMEZONE
TZID:America/Chicago
BEGIN:DAYLIGHT
TZOFFSETFROM:-0600
TZOFFSETTO:-0500
TZNAME:CDT
DTSTART:20250309T080000
END:DAYLIGHT
BEGIN:STANDARD
TZOFFSETFROM:-0500
TZOFFSETTO:-0600
TZNAME:CST
DTSTART:20251102T070000
END:STANDARD
END:VTIMEZONE
BEGIN:VEVENT
DTSTART;TZID=America/Chicago:20250428T000000
DTEND;TZID=America/Chicago:20250503T235959
DTSTAMP:20260420T122354
CREATED:20250411T054448Z
LAST-MODIFIED:20250411T054501Z
UID:10001334-1745798400-1746316799@peoriaymca.org
SUMMARY:Les Mills Launch Week
DESCRIPTION:Les Mills Launch Week will feature new workout routines in your favorite Les Mills classes\, by your favorite YMCA instructors! With new music and new ways to move your body\, this is a great time to try a new class format! All classes will launch at their regularly scheduled time.
URL:https://peoriaymca.org/event/les-mills-launch-week/
END:VEVENT
BEGIN:VEVENT
DTSTART;TZID=America/Chicago:20250503T090000
DTEND;TZID=America/Chicago:20250503T110000
DTSTAMP:20260420T122354
CREATED:20250411T054849Z
LAST-MODIFIED:20250411T054854Z
UID:10001335-1746262800-1746270000@peoriaymca.org
SUMMARY:Women's Self Defense Seminar
DESCRIPTION:The women’s self-defense seminar is designed to empower participants with essential skills and knowledge to enhance their personal safety. The seminar focuses on building awareness of surroundings\, teaching practical self-defense techniques\, and providing guidance on how to navigate situations safely.
URL:https://peoriaymca.org/event/womens-self-defense-seminar/
END:VEVENT
END:VCALENDAR